BEGIN:VCALENDAR
VERSION:2.0
PRODID:-// - ECPv6.15.20//NONSGML v1.0//EN
CALSCALE:GREGORIAN
METHOD:PUBLISH
X-ORIGINAL-URL:https://coupedevilleband.com
X-WR-CALDESC:Events for 
REFRESH-INTERVAL;VALUE=DURATION:PT1H
X-Robots-Tag:noindex
X-PUBLISHED-TTL:PT1H
BEGIN:VTIMEZONE
TZID:Australia/Adelaide
BEGIN:STANDARD
TZOFFSETFROM:+1030
TZOFFSETTO:+0930
TZNAME:ACST
DTSTART:20250405T163000
END:STANDARD
BEGIN:DAYLIGHT
TZOFFSETFROM:+0930
TZOFFSETTO:+1030
TZNAME:ACDT
DTSTART:20251004T163000
END:DAYLIGHT
BEGIN:STANDARD
TZOFFSETFROM:+1030
TZOFFSETTO:+0930
TZNAME:ACST
DTSTART:20260404T163000
END:STANDARD
BEGIN:DAYLIGHT
TZOFFSETFROM:+0930
TZOFFSETTO:+1030
TZNAME:ACDT
DTSTART:20261003T163000
END:DAYLIGHT
BEGIN:STANDARD
TZOFFSETFROM:+1030
TZOFFSETTO:+0930
TZNAME:ACST
DTSTART:20270403T163000
END:STANDARD
BEGIN:DAYLIGHT
TZOFFSETFROM:+0930
TZOFFSETTO:+1030
TZNAME:ACDT
DTSTART:20271002T163000
END:DAYLIGHT
END:VTIMEZONE
BEGIN:VEVENT
DTSTART;TZID=Australia/Adelaide:20260320T183000
DTEND;TZID=Australia/Adelaide:20260320T230000
DTSTAMP:20260426T100838
CREATED:20260305T100732Z
LAST-MODIFIED:20260305T102910Z
UID:367-1774031400-1774047600@coupedevilleband.com
SUMMARY:Legends Rock & Roll Club
DESCRIPTION:Legends Rock & Roll Club – 11 Lasalle Street\, Dudley Park. Doors open at 6.30\, Coupe DeVille – 8pm to 11pm \n\n\n\nEntry: Members $10.00\, Guests $15.00
URL:https://coupedevilleband.com/event/legends-rock-roll-club-2/
LOCATION:Legends Rock and Roll Club\, 11 Lasalle Street\, Dudley Park\, South Australia\, Australia
CATEGORIES:Local Club Show
ATTACH;FMTTYPE=image/jpeg:https://coupedevilleband.com/wp-content/uploads/2025/08/LRnRC-20Mar-.jpg
END:VEVENT
BEGIN:VEVENT
DTSTART;TZID=Australia/Adelaide:20260328T203000
DTEND;TZID=Australia/Adelaide:20260328T233000
DTSTAMP:20260426T100838
CREATED:20260305T103904Z
LAST-MODIFIED:20260305T104154Z
UID:380-1774729800-1774740600@coupedevilleband.com
SUMMARY:Let's Rock & Roll - The Windsor Hotel
DESCRIPTION:Coupe DeVille Live @ the Windsor Hotel \n\n\n\n!! FREE ENTRY !! \n\n\n\n\n\n\n\n\n\n\n\n\n\n\n\n\n\n 
URL:https://coupedevilleband.com/event/lets-rock-roll-the-windsor-hotel/
LOCATION:The Windsor Hotel\, 410 North East Road\, WINDSOR GARDENS\, SA\, 5087\, Australia
ATTACH;FMTTYPE=image/jpeg:https://coupedevilleband.com/wp-content/uploads/2026/03/WINDSOR-28-Mar-26.jpg
END:VEVENT
END:VCALENDAR