BEGIN:VCALENDAR
VERSION:2.0
PRODID:-// - ECPv6.15.20//NONSGML v1.0//EN
CALSCALE:GREGORIAN
METHOD:PUBLISH
X-ORIGINAL-URL:https://coupedevilleband.com
X-WR-CALDESC:Events for 
REFRESH-INTERVAL;VALUE=DURATION:PT1H
X-Robots-Tag:noindex
X-PUBLISHED-TTL:PT1H
BEGIN:VTIMEZONE
TZID:Australia/Adelaide
BEGIN:STANDARD
TZOFFSETFROM:+1030
TZOFFSETTO:+0930
TZNAME:ACST
DTSTART:20240406T163000
END:STANDARD
BEGIN:DAYLIGHT
TZOFFSETFROM:+0930
TZOFFSETTO:+1030
TZNAME:ACDT
DTSTART:20241005T163000
END:DAYLIGHT
BEGIN:STANDARD
TZOFFSETFROM:+1030
TZOFFSETTO:+0930
TZNAME:ACST
DTSTART:20250405T163000
END:STANDARD
BEGIN:DAYLIGHT
TZOFFSETFROM:+0930
TZOFFSETTO:+1030
TZNAME:ACDT
DTSTART:20251004T163000
END:DAYLIGHT
BEGIN:STANDARD
TZOFFSETFROM:+1030
TZOFFSETTO:+0930
TZNAME:ACST
DTSTART:20260404T163000
END:STANDARD
BEGIN:DAYLIGHT
TZOFFSETFROM:+0930
TZOFFSETTO:+1030
TZNAME:ACDT
DTSTART:20261003T163000
END:DAYLIGHT
END:VTIMEZONE
BEGIN:VEVENT
DTSTART;TZID=Australia/Adelaide:20251010T193000
DTEND;TZID=Australia/Adelaide:20251010T230000
DTSTAMP:20260426T100921
CREATED:20250815T035006Z
LAST-MODIFIED:20250815T035006Z
UID:178-1760124600-1760137200@coupedevilleband.com
SUMMARY:Rocktober 2025 - Berri
DESCRIPTION:River Rock Dance Club – Berri Town Hall. \nWilson st Berri\, Berri\, SA\, Australia\, Barmera \nRocktober 2025 \nRoad Trip Time\, Coupe De Ville will be joining the River Rock Dance Club for a great Friday night of dancing with the Club DJ playing during breaks.\nDoors open 6:30 pm\, partner dancing 7:00 pm Coupe DeVille 7:30 – 11:30 pm\nBYO Drinks and Nibbles – TICKETS $25.00
URL:https://coupedevilleband.com/event/rocktober-2025-berri/
LOCATION:Berri Town Hall\, Wilson st Berri\, Berri\, South Australia\, Australia
CATEGORIES:Local Club Show
ATTACH;FMTTYPE=image/jpeg:https://coupedevilleband.com/wp-content/uploads/2025/08/River-Rock-Dance-Club-Rocktober-2025.jpg
ORGANIZER;CN="River Rock Dance Club":MAILTO:rocktober.riverland@gmail.com
END:VEVENT
BEGIN:VEVENT
DTSTART;TZID=Australia/Adelaide:20251003T183000
DTEND;TZID=Australia/Adelaide:20251003T230000
DTSTAMP:20260426T100921
CREATED:20250815T032852Z
LAST-MODIFIED:20260305T095959Z
UID:173-1759516200-1759532400@coupedevilleband.com
SUMMARY:Legends Rock & Roll Club
DESCRIPTION:Legends Rock & Roll Club – 11 Lasalle Street\, Dudley Park. Doors open at 6.30\, Coupe DeVille – 8pm to 11pm Entry: Members $10.00\, Guests $15.00 \n\n\n\n\n\n\n\n\n\n 
URL:https://coupedevilleband.com/event/legends-rock-roll-club/
LOCATION:Christies Beach
ATTACH;FMTTYPE=image/jpeg:https://coupedevilleband.com/wp-content/uploads/2025/08/LRnRC-20Mar-.jpg
END:VEVENT
BEGIN:VEVENT
DTSTART;TZID=Australia/Adelaide:20250921T140000
DTEND;TZID=Australia/Adelaide:20250921T163000
DTSTAMP:20260426T100921
CREATED:20250815T032423Z
LAST-MODIFIED:20250816T115344Z
UID:168-1758463200-1758472200@coupedevilleband.com
SUMMARY:Victor Harbor Rock & Roll Festival
DESCRIPTION:Victor Harbor Rock & Roll Festival – Warland Reserve Stage\, Victor Harbor. Rock n` Roll Main Stage Coupe DeVille –  2 Pm to 4.30pm Free Entry \n\n\n\n\n\n\n\n\n\n 
URL:https://coupedevilleband.com/event/victor-harbor-rock-roll-festival/
LOCATION:Warland Reserve Stage\, Victor Harbor.\, Warland Reserve Stage\, Victor Harbor.\, Victor Harbor\, Victor Harbor\, Australia
ATTACH;FMTTYPE=image/png:https://coupedevilleband.com/wp-content/uploads/2025/08/VicHar-RnR-F-CD-1--scaled.png
END:VEVENT
BEGIN:VEVENT
DTSTART;TZID=Australia/Adelaide:20250827T190000
DTEND;TZID=Australia/Adelaide:20250827T223000
DTSTAMP:20260426T100921
CREATED:20250813T120017Z
LAST-MODIFIED:20250813T120017Z
UID:139-1756321200-1756333800@coupedevilleband.com
SUMMARY:At Lost in the 50's - "SPRING TIME"
DESCRIPTION:ENTRY $5.00 at the Door (CASH ONLY) \nDoors Open 6:50pm \nDJ Waz in the breaks \nFull Bar Facilities available with Eftpos ** Strictly NO BYO drinks **
URL:https://coupedevilleband.com/event/at-lost-in-the-50s-spring-time/
LOCATION:Casa D’Abruzzo Molise Club\, 86-90 Churchill Road\, Prospect\, SA\, Australia
CATEGORIES:Local Club Show
ATTACH;FMTTYPE=image/jpeg:https://coupedevilleband.com/wp-content/uploads/2025/08/Lost-In-The-50s-27-August-2025.jpg
END:VEVENT
END:VCALENDAR