BEGIN:VCALENDAR
VERSION:2.0
PRODID:-// - ECPv6.15.20//NONSGML v1.0//EN
CALSCALE:GREGORIAN
METHOD:PUBLISH
X-ORIGINAL-URL:https://coupedevilleband.com
X-WR-CALDESC:Events for 
REFRESH-INTERVAL;VALUE=DURATION:PT1H
X-Robots-Tag:noindex
X-PUBLISHED-TTL:PT1H
BEGIN:VTIMEZONE
TZID:Australia/Adelaide
BEGIN:STANDARD
TZOFFSETFROM:+1030
TZOFFSETTO:+0930
TZNAME:ACST
DTSTART:20250405T163000
END:STANDARD
BEGIN:DAYLIGHT
TZOFFSETFROM:+0930
TZOFFSETTO:+1030
TZNAME:ACDT
DTSTART:20251004T163000
END:DAYLIGHT
BEGIN:STANDARD
TZOFFSETFROM:+1030
TZOFFSETTO:+0930
TZNAME:ACST
DTSTART:20260404T163000
END:STANDARD
BEGIN:DAYLIGHT
TZOFFSETFROM:+0930
TZOFFSETTO:+1030
TZNAME:ACDT
DTSTART:20261003T163000
END:DAYLIGHT
BEGIN:STANDARD
TZOFFSETFROM:+1030
TZOFFSETTO:+0930
TZNAME:ACST
DTSTART:20270403T163000
END:STANDARD
BEGIN:DAYLIGHT
TZOFFSETFROM:+0930
TZOFFSETTO:+1030
TZNAME:ACDT
DTSTART:20271002T163000
END:DAYLIGHT
END:VTIMEZONE
BEGIN:VEVENT
DTSTART;TZID=Australia/Adelaide:20260227T193000
DTEND;TZID=Australia/Adelaide:20260227T230000
DTSTAMP:20260426T132642
CREATED:20260219T024338Z
LAST-MODIFIED:20260219T025410Z
UID:349-1772220600-1772233200@coupedevilleband.com
SUMMARY:Let's Rock & Roll - Christies Beach Sports & Social Club
DESCRIPTION:Christies Beach Sports & Social Club \n\n\n\nBice Oval\, Christie Ave\, Christies Beach. \n\n\n\n** FREE ENTRY ** \n \n\n\n\n\n\n\n\n\n\n\n\n\n\n 
URL:https://coupedevilleband.com/event/lets-rock-roll-christies-beach-sports-social-club/
LOCATION:Christies Beach Sports & Social Club\, Bice Oval\, Christie Ave\, Christies Beach\, SA\, 5165\, Australia
CATEGORIES:Local Club Show
END:VEVENT
BEGIN:VEVENT
DTSTART;TZID=Australia/Adelaide:20260320T183000
DTEND;TZID=Australia/Adelaide:20260320T230000
DTSTAMP:20260426T132642
CREATED:20260305T100732Z
LAST-MODIFIED:20260305T102910Z
UID:367-1774031400-1774047600@coupedevilleband.com
SUMMARY:Legends Rock & Roll Club
DESCRIPTION:Legends Rock & Roll Club – 11 Lasalle Street\, Dudley Park. Doors open at 6.30\, Coupe DeVille – 8pm to 11pm \n\n\n\nEntry: Members $10.00\, Guests $15.00
URL:https://coupedevilleband.com/event/legends-rock-roll-club-2/
LOCATION:Legends Rock and Roll Club\, 11 Lasalle Street\, Dudley Park\, South Australia\, Australia
CATEGORIES:Local Club Show
ATTACH;FMTTYPE=image/jpeg:https://coupedevilleband.com/wp-content/uploads/2025/08/LRnRC-20Mar-.jpg
END:VEVENT
BEGIN:VEVENT
DTSTART;TZID=Australia/Adelaide:20260328T203000
DTEND;TZID=Australia/Adelaide:20260328T233000
DTSTAMP:20260426T132642
CREATED:20260305T103904Z
LAST-MODIFIED:20260305T104154Z
UID:380-1774729800-1774740600@coupedevilleband.com
SUMMARY:Let's Rock & Roll - The Windsor Hotel
DESCRIPTION:Coupe DeVille Live @ the Windsor Hotel \n\n\n\n!! FREE ENTRY !! \n\n\n\n\n\n\n\n\n\n\n\n\n\n\n\n\n\n 
URL:https://coupedevilleband.com/event/lets-rock-roll-the-windsor-hotel/
LOCATION:The Windsor Hotel\, 410 North East Road\, WINDSOR GARDENS\, SA\, 5087\, Australia
ATTACH;FMTTYPE=image/jpeg:https://coupedevilleband.com/wp-content/uploads/2026/03/WINDSOR-28-Mar-26.jpg
END:VEVENT
BEGIN:VEVENT
DTSTART;TZID=Australia/Adelaide:20260418T190000
DTEND;TZID=Australia/Adelaide:20260418T230000
DTSTAMP:20260426T132642
CREATED:20260305T105006Z
LAST-MODIFIED:20260406T111011Z
UID:387-1776538800-1776553200@coupedevilleband.com
SUMMARY:Foot Stomping – Hampstead Hotel
DESCRIPTION:Foot Stomping – Hampstead Hotel\, 143 North East Road\, Collinswood. \n\n\n\nAppearing live – Coupe DeVille and other artists. \n\n\n\n! FREE ENTRY ! \n\n\n\n\n\n\n\n\n\n\n\n\n\n\n\n\n\n 
URL:https://coupedevilleband.com/event/foot-stomping-hampstead-hotel/
LOCATION:Hampstead Hotel\, 143 North East Road\, Collinswood\, Collinswood\, Australia
ATTACH;FMTTYPE=image/jpeg:https://coupedevilleband.com/wp-content/uploads/2026/03/Footstompin-April-2026.jpg
END:VEVENT
BEGIN:VEVENT
DTSTART;TZID=Australia/Adelaide:20260424T193000
DTEND;TZID=Australia/Adelaide:20260424T230000
DTSTAMP:20260426T132642
CREATED:20260305T105717Z
LAST-MODIFIED:20260305T105834Z
UID:390-1777059000-1777071600@coupedevilleband.com
SUMMARY:Adelaide Rock & Roll Club
DESCRIPTION:Adelaide Rock & Roll Club – The Brit\, 11-15 Davis Street\, Wingfield. Doors open at 7pm\, Coupe DeVille – 7.30pm to 11pm Entry: Members $10.00\, Guests $15.00 \n\n\n\n\n\n\n\n\n\n\n\n\n\n\n\n\n\n 
URL:https://coupedevilleband.com/event/adelaide-rock-roll-club-2/
LOCATION:The Brit\, 11-15 Davis Street\, Wingfield\, 11-15 Davis Street\, Wingfield\, South Australia\, Australia
ATTACH;FMTTYPE=image/jpeg:https://coupedevilleband.com/wp-content/uploads/2026/03/ARRC-24-Apr-26.jpg
END:VEVENT
BEGIN:VEVENT
DTSTART;TZID=Australia/Adelaide:20260502T193000
DTEND;TZID=Australia/Adelaide:20260502T223000
DTSTAMP:20260426T132642
CREATED:20260406T112540Z
LAST-MODIFIED:20260406T113107Z
UID:399-1777750200-1777761000@coupedevilleband.com
SUMMARY:Let's Rock & Roll - West Croydon Kilkenny RSL
DESCRIPTION:Let’s Rock & Roll with Coupe DeVille \n\n\n \nBookings available through – www.trybooking.com/DLADV \n\n\n\n or scan here. \n\n\n\n\n\n\n\n\n\n\n\n\n\n\n\n\n\n 
URL:https://coupedevilleband.com/event/lets-rock-roll-west-croydon-kilkenny-rsl-2/
LOCATION:West Croydon Kilkenny RSL\, 19 Rosetta Street\, West Croydon\, S.A\, 5008\, Australia
ATTACH;FMTTYPE=image/jpeg:https://coupedevilleband.com/wp-content/uploads/2026/04/WCK-RSL-2May-scaled.jpg
END:VEVENT
END:VCALENDAR